BEGIN:VCALENDAR
VERSION:2.0
PRODID:-//Squarespace Inc/Squarespace 6//v6//EN
BEGIN:VEVENT
UID:5c298129b8a0456c72c95858@squarespace.com
DTSTAMP:20181231T024050Z
DTSTART:20181231T090000Z
DTEND:20181231T140000Z
SUMMARY:New Years Eve Entertainment
END:VEVENT
END:VCALENDAR
