BEGIN:VCALENDAR
VERSION:2.0
PRODID:-//Squarespace Inc/Squarespace 6//v6//EN
BEGIN:VEVENT
UID:5bac531e8165f58ad048905f@squarespace.com
DTSTAMP:20180927T035038Z
DTSTART:20180929T130000Z
DTEND:20180929T220000Z
SUMMARY:Euabalong Gymkhana and Team Penning 2018 
END:VEVENT
END:VCALENDAR
